BEGIN:VCALENDAR
VERSION:2.0
PRODID:-//mycamping - ECPv6.15.17//NONSGML v1.0//EN
CALSCALE:GREGORIAN
METHOD:PUBLISH
X-ORIGINAL-URL:https://mycamping.se
X-WR-CALDESC:Händelser för mycamping
REFRESH-INTERVAL;VALUE=DURATION:PT1H
X-Robots-Tag:noindex
X-PUBLISHED-TTL:PT1H
BEGIN:VTIMEZONE
TZID:Europe/Stockholm
BEGIN:DAYLIGHT
TZOFFSETFROM:+0100
TZOFFSETTO:+0200
TZNAME:CEST
DTSTART:20250330T010000
END:DAYLIGHT
BEGIN:STANDARD
TZOFFSETFROM:+0200
TZOFFSETTO:+0100
TZNAME:CET
DTSTART:20251026T010000
END:STANDARD
BEGIN:DAYLIGHT
TZOFFSETFROM:+0100
TZOFFSETTO:+0200
TZNAME:CEST
DTSTART:20260329T010000
END:DAYLIGHT
BEGIN:STANDARD
TZOFFSETFROM:+0200
TZOFFSETTO:+0100
TZNAME:CET
DTSTART:20261025T010000
END:STANDARD
BEGIN:DAYLIGHT
TZOFFSETFROM:+0100
TZOFFSETTO:+0200
TZNAME:CEST
DTSTART:20270328T010000
END:DAYLIGHT
BEGIN:STANDARD
TZOFFSETFROM:+0200
TZOFFSETTO:+0100
TZNAME:CET
DTSTART:20271031T010000
END:STANDARD
END:VTIMEZONE
BEGIN:VEVENT
DTSTART;TZID=Europe/Stockholm:20260708T140000
DTEND;TZID=Europe/Stockholm:20260708T180000
DTSTAMP:20260421T134456
CREATED:20260320T093509Z
LAST-MODIFIED:20260320T093509Z
UID:10000024-1783519200-1783533600@mycamping.se
SUMMARY:Hoppborgsparken & Glittertatueringar
DESCRIPTION:En eftermiddag fylld med skoj\, hopp och skratt!
URL:https://mycamping.se/evenemang/hoppborgsparken-glittertatueringar-kollevik/2026-07-08/
CATEGORIES:Kolleviks Camping
ATTACH;FMTTYPE=image/png:https://mycamping.se/wp-content/uploads/2026/03/hopp_glitter.png
END:VEVENT
BEGIN:VEVENT
DTSTART;TZID=Europe/Stockholm:20260711T123000
DTEND;TZID=Europe/Stockholm:20260711T133000
DTSTAMP:20260421T134456
CREATED:20260320T093126Z
LAST-MODIFIED:20260320T093126Z
UID:10000023-1783773000-1783776600@mycamping.se
SUMMARY:Galna Professorn
DESCRIPTION:Galna Professorn och hans spännande\, tokiga experimentverkstad!
URL:https://mycamping.se/evenemang/galna-professorn-kollevik/
CATEGORIES:Kolleviks Camping
ATTACH;FMTTYPE=image/png:https://mycamping.se/wp-content/uploads/2026/03/galnaprofessorn-756f158b-e1773996697378.png
END:VEVENT
BEGIN:VEVENT
DTSTART;TZID=Europe/Stockholm:20260718T100000
DTEND;TZID=Europe/Stockholm:20260718T110000
DTSTAMP:20260421T134456
CREATED:20260320T094420Z
LAST-MODIFIED:20260320T094420Z
UID:10000026-1784368800-1784372400@mycamping.se
SUMMARY:Skumpartyt!
DESCRIPTION:Sommarens bubbligaste kalas! Massa skum\, disco och lekar för barn.
URL:https://mycamping.se/evenemang/skumpartyt-kollevik/2026-07-18/
CATEGORIES:Kolleviks Camping
ATTACH;FMTTYPE=image/png:https://mycamping.se/wp-content/uploads/2026/03/skumpartyt.png
END:VEVENT
BEGIN:VEVENT
DTSTART;TZID=Europe/Stockholm:20260722T140000
DTEND;TZID=Europe/Stockholm:20260722T180000
DTSTAMP:20260421T134456
CREATED:20260320T093509Z
LAST-MODIFIED:20260320T093509Z
UID:10000025-1784728800-1784743200@mycamping.se
SUMMARY:Hoppborgsparken & Glittertatueringar
DESCRIPTION:En eftermiddag fylld med skoj\, hopp och skratt!
URL:https://mycamping.se/evenemang/hoppborgsparken-glittertatueringar-kollevik/2026-07-22/
CATEGORIES:Kolleviks Camping
ATTACH;FMTTYPE=image/png:https://mycamping.se/wp-content/uploads/2026/03/hopp_glitter.png
END:VEVENT
BEGIN:VEVENT
DTSTART;TZID=Europe/Stockholm:20260725T163000
DTEND;TZID=Europe/Stockholm:20260725T180000
DTSTAMP:20260421T134456
CREATED:20260320T092856Z
LAST-MODIFIED:20260320T092856Z
UID:10000020-1784997000-1785002400@mycamping.se
SUMMARY:Super Labyrinten
DESCRIPTION:Tävla i Superhjältarnas Labyrint och utmana dig själv\, kompisar och föräldrar!
URL:https://mycamping.se/evenemang/super-labyrinten-kollevik/
CATEGORIES:Kolleviks Camping
ATTACH;FMTTYPE=image/png:https://mycamping.se/wp-content/uploads/2026/03/superlabyrinten.png
END:VEVENT
END:VCALENDAR