BEGIN:VCALENDAR
VERSION:2.0
PRODID:-//mycamping - ECPv6.15.17//NONSGML v1.0//EN
CALSCALE:GREGORIAN
METHOD:PUBLISH
X-WR-CALNAME:mycamping
X-ORIGINAL-URL:https://mycamping.se
X-WR-CALDESC:Händelser för mycamping
REFRESH-INTERVAL;VALUE=DURATION:PT1H
X-Robots-Tag:noindex
X-PUBLISHED-TTL:PT1H
BEGIN:VTIMEZONE
TZID:Europe/Stockholm
BEGIN:DAYLIGHT
TZOFFSETFROM:+0100
TZOFFSETTO:+0200
TZNAME:CEST
DTSTART:20250330T010000
END:DAYLIGHT
BEGIN:STANDARD
TZOFFSETFROM:+0200
TZOFFSETTO:+0100
TZNAME:CET
DTSTART:20251026T010000
END:STANDARD
BEGIN:DAYLIGHT
TZOFFSETFROM:+0100
TZOFFSETTO:+0200
TZNAME:CEST
DTSTART:20260329T010000
END:DAYLIGHT
BEGIN:STANDARD
TZOFFSETFROM:+0200
TZOFFSETTO:+0100
TZNAME:CET
DTSTART:20261025T010000
END:STANDARD
BEGIN:DAYLIGHT
TZOFFSETFROM:+0100
TZOFFSETTO:+0200
TZNAME:CEST
DTSTART:20270328T010000
END:DAYLIGHT
BEGIN:STANDARD
TZOFFSETFROM:+0200
TZOFFSETTO:+0100
TZNAME:CET
DTSTART:20271031T010000
END:STANDARD
END:VTIMEZONE
BEGIN:VEVENT
DTSTART;TZID=Europe/Stockholm:20260708T140000
DTEND;TZID=Europe/Stockholm:20260708T180000
DTSTAMP:20260421T150713
CREATED:20260320T093509Z
LAST-MODIFIED:20260320T093509Z
UID:10000024-1783519200-1783533600@mycamping.se
SUMMARY:Hoppborgsparken & Glittertatueringar
DESCRIPTION:En eftermiddag fylld med skoj\, hopp och skratt!
URL:https://mycamping.se/evenemang/hoppborgsparken-glittertatueringar-kollevik/2026-07-08/
CATEGORIES:Kolleviks Camping
ATTACH;FMTTYPE=image/png:https://mycamping.se/wp-content/uploads/2026/03/hopp_glitter.png
END:VEVENT
BEGIN:VEVENT
DTSTART;TZID=Europe/Stockholm:20260710T140000
DTEND;TZID=Europe/Stockholm:20260710T180000
DTSTAMP:20260421T150713
CREATED:20260320T094713Z
LAST-MODIFIED:20260320T094857Z
UID:10000028-1783692000-1783706400@mycamping.se
SUMMARY:Hoppborgsparken & Glittertatueringar
DESCRIPTION:En eftermiddag fylld med skoj\, hopp och skratt!
URL:https://mycamping.se/evenemang/hoppborgsparken-glittertatueringar-tredenborg/2026-07-10/
CATEGORIES:Tredenborgs Camping
ATTACH;FMTTYPE=image/png:https://mycamping.se/wp-content/uploads/2026/03/hopp_glitter.png
END:VEVENT
BEGIN:VEVENT
DTSTART;TZID=Europe/Stockholm:20260711T123000
DTEND;TZID=Europe/Stockholm:20260711T133000
DTSTAMP:20260421T150713
CREATED:20260320T093126Z
LAST-MODIFIED:20260320T093126Z
UID:10000023-1783773000-1783776600@mycamping.se
SUMMARY:Galna Professorn
DESCRIPTION:Galna Professorn och hans spännande\, tokiga experimentverkstad!
URL:https://mycamping.se/evenemang/galna-professorn-kollevik/
CATEGORIES:Kolleviks Camping
ATTACH;FMTTYPE=image/png:https://mycamping.se/wp-content/uploads/2026/03/galnaprofessorn-756f158b-e1773996697378.png
END:VEVENT
BEGIN:VEVENT
DTSTART;TZID=Europe/Stockholm:20260711T143000
DTEND;TZID=Europe/Stockholm:20260711T153000
DTSTAMP:20260421T150713
CREATED:20260320T085202Z
LAST-MODIFIED:20260320T085202Z
UID:10000014-1783780200-1783783800@mycamping.se
SUMMARY:Galna Professorn
DESCRIPTION:Galna Professorn och hans spännande\, tokiga experimentverkstad!
URL:https://mycamping.se/evenemang/galna-professorn/
CATEGORIES:Halens Camping
ATTACH;FMTTYPE=image/png:https://mycamping.se/wp-content/uploads/2026/03/galnaprofessorn-756f158b-e1773996697378.png
END:VEVENT
BEGIN:VEVENT
DTSTART;TZID=Europe/Stockholm:20260711T163000
DTEND;TZID=Europe/Stockholm:20260711T173000
DTSTAMP:20260421T150713
CREATED:20260320T095050Z
LAST-MODIFIED:20260320T095050Z
UID:10000032-1783787400-1783791000@mycamping.se
SUMMARY:Galna Professorn
DESCRIPTION:Galna Professorn och hans spännande\, tokiga experimentverkstad!
URL:https://mycamping.se/evenemang/galna-professorn-tredenborg/
CATEGORIES:Tredenborgs Camping
ATTACH;FMTTYPE=image/png:https://mycamping.se/wp-content/uploads/2026/03/galnaprofessorn-756f158b-e1773996697378.png
END:VEVENT
BEGIN:VEVENT
DTSTART;TZID=Europe/Stockholm:20260715T140000
DTEND;TZID=Europe/Stockholm:20260715T180000
DTSTAMP:20260421T150713
CREATED:20260320T091052Z
LAST-MODIFIED:20260320T092223Z
UID:10000015-1784124000-1784138400@mycamping.se
SUMMARY:Hoppborgslandet & Glittertatueringar!
DESCRIPTION:En eftermiddag fylld med massa skoj\, hopp och skratt!
URL:https://mycamping.se/evenemang/hoppborgslandet-glittertatueringar/2026-07-15/
CATEGORIES:Halens Camping
ATTACH;FMTTYPE=image/png:https://mycamping.se/wp-content/uploads/2026/03/hopp_glitter.png
END:VEVENT
BEGIN:VEVENT
DTSTART;TZID=Europe/Stockholm:20260717T140000
DTEND;TZID=Europe/Stockholm:20260717T180000
DTSTAMP:20260421T150713
CREATED:20260320T094713Z
LAST-MODIFIED:20260320T094857Z
UID:10000030-1784296800-1784311200@mycamping.se
SUMMARY:Hoppborgsparken & Glittertatueringar
DESCRIPTION:En eftermiddag fylld med skoj\, hopp och skratt!
URL:https://mycamping.se/evenemang/hoppborgsparken-glittertatueringar-tredenborg/2026-07-17/
CATEGORIES:Tredenborgs Camping
ATTACH;FMTTYPE=image/png:https://mycamping.se/wp-content/uploads/2026/03/hopp_glitter.png
END:VEVENT
BEGIN:VEVENT
DTSTART;TZID=Europe/Stockholm:20260718T100000
DTEND;TZID=Europe/Stockholm:20260718T110000
DTSTAMP:20260421T150713
CREATED:20260320T094420Z
LAST-MODIFIED:20260320T094420Z
UID:10000026-1784368800-1784372400@mycamping.se
SUMMARY:Skumpartyt!
DESCRIPTION:Sommarens bubbligaste kalas! Massa skum\, disco och lekar för barn.
URL:https://mycamping.se/evenemang/skumpartyt-kollevik/2026-07-18/
CATEGORIES:Kolleviks Camping
ATTACH;FMTTYPE=image/png:https://mycamping.se/wp-content/uploads/2026/03/skumpartyt.png
END:VEVENT
BEGIN:VEVENT
DTSTART;TZID=Europe/Stockholm:20260718T123000
DTEND;TZID=Europe/Stockholm:20260718T133000
DTSTAMP:20260421T150713
CREATED:20260320T092033Z
LAST-MODIFIED:20260320T092033Z
UID:10000016-1784377800-1784381400@mycamping.se
SUMMARY:Skumpartyt!
DESCRIPTION:Sommarens bubbligaste kalas! Skum\, disco och lekar för barn.
URL:https://mycamping.se/evenemang/skumpartyt/2026-07-18/
CATEGORIES:Halens Camping
ATTACH;FMTTYPE=image/png:https://mycamping.se/wp-content/uploads/2026/03/skumpartyt.png
END:VEVENT
BEGIN:VEVENT
DTSTART;TZID=Europe/Stockholm:20260718T150000
DTEND;TZID=Europe/Stockholm:20260718T160000
DTSTAMP:20260421T150713
CREATED:20260320T095414Z
LAST-MODIFIED:20260320T095414Z
UID:10000034-1784386800-1784390400@mycamping.se
SUMMARY:Skumpartyt!
DESCRIPTION:Sommarens bubbligaste kalas! Massa skum\, disco och lekar för barn.
URL:https://mycamping.se/evenemang/skumpartyt-tredenborg/2026-07-18/
CATEGORIES:Tredenborgs Camping
ATTACH;FMTTYPE=image/png:https://mycamping.se/wp-content/uploads/2026/03/skumpartyt.png
END:VEVENT
END:VCALENDAR